BEGIN:VCALENDAR
VERSION:2.0
PRODID:-//Saalfelden-Leogang.com//NONSGML kigkonsult.se iCalcreator 2.22.1/
 /EN
METHOD:PUBLISH
X-WR-CALNAME;LANGUAGE=en:Saalfelden-Leogang.com
X-WR-CALDESC;LANGUAGE=en:Saalfelden-Leogang.com
X-WR-TIMEZONE;LANGUAGE=en:Europe/Berlin
BEGIN:VEVENT
UID:20260420T100151CEST-2054Uc3FrU@Saalfelden-Leogang.com
DTSTAMP:20260420T080151Z
DESCRIPTION:
DTSTART:20260303T180000Z
DTEND:20260303T220000Z
LOCATION;LANGUAGE=en:Bergstation Asitzbahn/AsitzBräu
SUMMARY;LANGUAGE=en:Asitz Winter Night
END:VEVENT
BEGIN:VEVENT
UID:20260420T100151CEST-2055JdMxcp@Saalfelden-Leogang.com
DTSTAMP:20260420T080151Z
DESCRIPTION:
DTSTART:20260310T180000Z
DTEND:20260310T220000Z
LOCATION;LANGUAGE=en:Bergstation Asitzbahn/AsitzBräu
SUMMARY;LANGUAGE=en:Asitz Winter Night
END:VEVENT
BEGIN:VEVENT
UID:20260420T100151CEST-2055CdaW0U@Saalfelden-Leogang.com
DTSTAMP:20260420T080151Z
DESCRIPTION:
DTSTART:20260317T180000Z
DTEND:20260317T220000Z
LOCATION;LANGUAGE=en:Bergstation Asitzbahn/AsitzBräu
SUMMARY;LANGUAGE=en:Asitz Winter Night
END:VEVENT
BEGIN:VEVENT
UID:20260420T100151CEST-2056nOlOO6@Saalfelden-Leogang.com
DTSTAMP:20260420T080151Z
DESCRIPTION:
DTSTART:20260324T180000Z
DTEND:20260324T220000Z
LOCATION;LANGUAGE=en:Bergstation Asitzbahn/AsitzBräu
SUMMARY;LANGUAGE=en:Asitz Winter Night
END:VEVENT
BEGIN:VEVENT
UID:20260420T100151CEST-2056VBXprf@Saalfelden-Leogang.com
DTSTAMP:20260420T080151Z
DESCRIPTION:
DTSTART:20260331T170000Z
DTEND:20260331T210000Z
LOCATION;LANGUAGE=en:Bergstation Asitzbahn/AsitzBräu
SUMMARY;LANGUAGE=en:Asitz Winter Night
END:VEVENT
END:VCALENDAR
